BEGIN:VCALENDAR
VERSION:2.0
PRODID:-//wp-events-plugin.com//7.2.2.1//EN
BEGIN:VEVENT
UID:264@jsjbf.org
DTSTART;TZID=America/New_York:20240607T190000
DTEND;TZID=America/New_York:20240607T203000
DTSTAMP:20240530T191153Z
URL:https://jsjbf.org/events/project-b-free-concert/
SUMMARY:Project B free Concert
DESCRIPTION:\n\n\nProject B is a 1960s style R&amp\;B/jazz organ trio who p
 erform classic songs by Jr. Walker\, King Curtis\, and other greats of the
  era\, as well as original compositions.\n\n\n\n\n\n\nThis event is sponso
 red by the Friends of the Bridgewater Library.\nLimited space available - 
 first come\, first served. Doors will open at 6:45 pm\nThe band is compose
 d of Saxophonist/vocalist Joe Grillo\, Organist Steve Rice and drummer Dav
 id Anthony.\nSaxophonist Joe Grillo has been leading bands and working as 
 a side man professionally for decades. Currently the lead singer and compo
 ser for Project B. Joe leads the band\, co-writes the music\, edits the vi
 deos\, and is the main driving force behind this popular Trenton based gro
 up. Joe also acts as section leader and arranger for the Reock &amp\; Roll
  Revue\, a popular local group who performs classic album recreations in a
  theatrical setting. Mr. Grillo plays Baritone sax with the NJ shore power
  house Motown band\, Motor City Revue and also freelances with many other 
 Jersey entertainment groups such as Spare Parts\, Holiday Express\, Ambien
 t DJ’s and D’Amico Entertainment.\nIn 2018 Joe met Steve Rice\, an acc
 omplished organ player from Seattle who recently moved to Philadelphia. St
 eve is also a prolific jazz composer with over 300 placements in TV and ma
 jor Motion Pictures. Steve's original music has been heard TV shows and fi
 lms including Green Book\, Passengers\, The Big Bang Theory\, Handmaid's T
 ale and Sons of Anarchy. Steve and Joe started writing together and teamed
  up with other NJ musicians to form the Gumbo Gumbas\, a NJ Zydeco/Swamp f
 unk/jazz band.\nDavid works with Joe in both the Gumbo Gumbas and Motor Ci
 ty Revue and plays with many of the top NJ acts. He has also performed and
 /or recorded with a variety of artists including Glen Burtnik\, Jackie DeS
 hannon\, Patty Smyth\, John Waite\, the B.Q.E Project\, the Billy Joel Bro
 adway musical Movin’ Out\, Darlene Love\, Dennis DeYoung\, and many more
 .\n&nbsp\;\n\n\n
ATTACH;FMTTYPE=image/jpeg:https://jsjbf.org/wp-content/uploads/2024/05/Pro
 ject-B-smaller.jpg
CATEGORIES:Venue Event
END:VEVENT
BEGIN:VTIMEZONE
TZID:America/New_York
X-LIC-LOCATION:America/New_York
BEGIN:DAYLIGHT
DTSTART:20240310T030000
TZOFFSETFROM:-0500
TZOFFSETTO:-0400
TZNAME:EDT
END:DAYLIGHT
END:VTIMEZONE
END:VCALENDAR