BEGIN:VCALENDAR
VERSION:2.0
PRODID:-//wp-events-plugin.com//7.2.2.1//EN
BEGIN:VEVENT
UID:259@jsjbf.org
DTSTART;TZID=America/New_York:20240525T190000
DTEND;TZID=America/New_York:20240525T210000
DTSTAMP:20240501T205410Z
URL:https://jsjbf.org/events/private-label-jazz-trio-6/
SUMMARY:Private Label Jazz Trio
DESCRIPTION:Great way to start off Memorial Day weekend!
CATEGORIES:Band Event
LOCATION:Friends Cafe\, 52 Robinson St.\, New Brunswick\, NJ\, 08901\, Unit
 ed States
X-APPLE-STRUCTURED-LOCATION;VALUE=URI;X-ADDRESS=52 Robinson St.\, New Bruns
 wick\, NJ\, 08901\, United States;X-APPLE-RADIUS=100;X-TITLE=Friends Cafe:
 geo:0,0
END:VEVENT
BEGIN:VTIMEZONE
TZID:America/New_York
X-LIC-LOCATION:America/New_York
BEGIN:DAYLIGHT
DTSTART:20240310T030000
TZOFFSETFROM:-0500
TZOFFSETTO:-0400
TZNAME:EDT
END:DAYLIGHT
END:VTIMEZONE
END:VCALENDAR