BEGIN:VCALENDAR
VERSION:2.0
PRODID:-//wp-events-plugin.com//7.2.2.1//EN
BEGIN:VEVENT
UID:232@jsjbf.org
DTSTART;TZID=America/New_York:20240209T200000
DTEND;TZID=America/New_York:20240209T220000
DTSTAMP:20240129T165025Z
URL:https://jsjbf.org/events/mardi-gras-kickoff-party/
SUMMARY:Mardi Gras Kickoff Party!
DESCRIPTION:The Gumbo Gumbas kick off the colossal Mardi Gras Party at 7:30
  3 Bands going all night. Great NOLA food and vibe and plenty of room to d
 ance! Zydeco\, Louisiana Swing and Swamp Funk!
ATTACH;FMTTYPE=image/jpeg:https://jsjbf.org/wp-content/uploads/2024/01/Cro
 ssroads.jpg
CATEGORIES:Venue Event
END:VEVENT
BEGIN:VTIMEZONE
TZID:America/New_York
X-LIC-LOCATION:America/New_York
BEGIN:STANDARD
DTSTART:20231105T010000
TZOFFSETFROM:-0400
TZOFFSETTO:-0500
TZNAME:EST
END:STANDARD
END:VTIMEZONE
END:VCALENDAR