BEGIN:VCALENDAR
VERSION:2.0
PRODID:-//wp-events-plugin.com//7.2.2.1//EN
BEGIN:VEVENT
UID:260@jsjbf.org
DTSTART;TZID=America/New_York:20240511T190000
DTEND;TZID=America/New_York:20240511T220000
DTSTAMP:20240506T005858Z
URL:https://jsjbf.org/events/eliza-neals-lizzie-rose-music-room/
SUMMARY:ELIZA NEALS @ Lizzie Rose Music Room!
DESCRIPTION:NEW ALBUM "COLORCRIMES" hear it LIVE !\nPre-ORDER NOW... http:/
 /elizaneals.bandcamp.com get a copy of "Something's Better Than Nothing"\n
 “She funked me up she’s not trying she’s doing” Buddy Guy“A voic
 e I soon won’t forget\, Great” Mick Jagger\nEliza Neals is a highly ta
 lented blues singer who has earned recognition for her soulful vocals and 
 captivating performances. SiriusXM has embraced Eliza Neals production and
  songwriting with sixteen songs in heavy rotation since 2015 to 35 million
  subscribers.\nNeals has brought a fresh and contemporary energy to the bl
 ues genre\, infusing it with elements of rock\, soul and a hard hitting De
 troit sound. Being the last Motown trained singer by songwriting legend Ba
 rrett Strong\, is a gift\, Eliza uses with her operatic training. Her dyna
 mic stage presence and powerful voice have contributed to revitalizing tra
 ditional blues music\, attracting a wider audience and garnering attention
  from listeners who may not typically gravitate towards the genre.\nEliza 
 Neals has embraced new production techniques and experimented with differe
 nt musical styles\, adding a modern edge to her music. She has collaborate
 d with renowned producers and musicians (Joe Louis Walker\, King Soloman H
 icks\, Walter Trout\, etc.)\, successfully bridging the gap between the tr
 aditional blues sound and contemporary musical influences.\nOverall\, Eliz
 a Neals has brought a refreshing perspective to modern blues music by blen
 ding genres\, embracing new production techniques\, and advocating for fem
 ale representation. Her impact on the genre extends beyond her beautiful i
 mage\, and she continues to be a driving force in pushing the boundaries o
 f contemporary blues music.\nAWARDS:Five Detroit Music Awards in Rock &amp
 \; BluesOne Detroit Black Music Award in BluesTwenty Nominations in the ne
 w International Blues Awards
ATTACH;FMTTYPE=image/jpeg:https://jsjbf.org/wp-content/uploads/2024/05/Scr
 een-Shot-2024-05-05-at-8.58.01-PM.png
CATEGORIES:Band Event
END:VEVENT
BEGIN:VTIMEZONE
TZID:America/New_York
X-LIC-LOCATION:America/New_York
BEGIN:DAYLIGHT
DTSTART:20240310T030000
TZOFFSETFROM:-0500
TZOFFSETTO:-0400
TZNAME:EDT
END:DAYLIGHT
END:VTIMEZONE
END:VCALENDAR