BEGIN:VCALENDAR
VERSION:2.0
PRODID:-//wp-events-plugin.com//7.2.2.1//EN
BEGIN:VEVENT
UID:271@jsjbf.org
DTSTART;TZID=America/New_York:20240727T180000
DTEND;TZID=America/New_York:20240727T220000
DTSTAMP:20240715T190948Z
URL:https://jsjbf.org/events/debra-devi-at-betsys-backyard/
SUMMARY:Debra Devi at Betsy's BackYard
DESCRIPTION:Sound Reflections/Home of Betsy’s BackYard Presents:“Pot Lu
 ck Dinner &amp\; Music”Bring something to share for dinner (serving size
  of 5+)\n\nSEATING IS LIMITED!RSVP TO RESERVE YOUR SEATS &amp\; GET ADDRES
 S:\n1) DM Betsy Lynn Paisley on Facebookhttps://www.facebook.com/betsy.pai
 sley\nOR\n2) Email debradevi@gmail.com\n\nCASH ONLY: $20 w/RSVP\; $25 w/o 
 RSVP\n\nSCHEDULEDoors: 6 PMMATTHEW RYAN: 6:30 PMDEBRA DEVI: 7 -9 PMOpen Ja
 m: 9-10:30 PM\n48-hour cancellation required for refund\n\nDEBRA DEVIwww.d
 ebradevi.comAmerican Blues Scene calls Devi "one of today's top female blu
 es-rock guitarists\," comparing her to Samantha Fish and Susan Tedeschi. S
 he plays "dreamy blues-rock and blistering psychedelic jams" (Relix) drive
 n by her soulful voice and expressive guitar playing.\n\nLive\, she leads 
 "a fiery guitar-driven band equally adept at soulful rockers and sprawling
  jams" (NY Music Daily).\n\nDevi's latest EP\, Jamification Station Vol. 1
 \, reached #5 on the Relix/Jambands Top 30 Radio Chart\, staying on the ch
 art for 3 months. Gov't Mule bassist Jorgen Carlsson joined Devi on her pr
 evious EP A Zillion Stars Overhead. Americana Highways calls their collabo
 ration "exciting and mesmerizing."\nBased in Jersey City\, Devi has opened
  for Fantastic Cat\, Jesse Malin\, Ana Popovic\, Marshall Crenshaw\, Willi
 e Nile and more.\n\nDevi is also the author of The Language of the Blues: 
 From Alcorub to Zuzu (foreword by Dr. John)\, winner of the ASCAP Deems Ta
 ylor Award. She will have copies of her book on hand.\n\nMATTHEW RYANwww.f
 acebook.com/matthew.ryan.5876
ATTACH;FMTTYPE=image/jpeg:https://jsjbf.org/wp-content/uploads/2024/07/Deb
 ra-Devi.jpeg
CATEGORIES:Band Event
END:VEVENT
BEGIN:VTIMEZONE
TZID:America/New_York
X-LIC-LOCATION:America/New_York
BEGIN:DAYLIGHT
DTSTART:20240310T030000
TZOFFSETFROM:-0500
TZOFFSETTO:-0400
TZNAME:EDT
END:DAYLIGHT
END:VTIMEZONE
END:VCALENDAR