BEGIN:VCALENDAR
VERSION:2.0
PRODID:-//wp-events-plugin.com//7.2.2.1//EN
BEGIN:VEVENT
UID:262@jsjbf.org
DTSTART;TZID=America/New_York:20240601T200000
DTEND;TZID=America/New_York:20240601T230000
DTSTAMP:20240527T124043Z
URL:https://jsjbf.org/events/dave-fields-rock-n-blues-w-parker-street/
SUMMARY:Dave Fields Rock n Blues w/ Parker Street
DESCRIPTION:Parker Street will be backing up Dave Fields and his ferocious 
 rock and blues show June 1st at the Blue Moon in South Amboy.  Don’t mis
 s it !!!
CATEGORIES:Band Event
LOCATION:https://www.bluemoonsouthamboy.com/
END:VEVENT
BEGIN:VTIMEZONE
TZID:America/New_York
X-LIC-LOCATION:America/New_York
BEGIN:DAYLIGHT
DTSTART:20240310T030000
TZOFFSETFROM:-0500
TZOFFSETTO:-0400
TZNAME:EDT
END:DAYLIGHT
END:VTIMEZONE
END:VCALENDAR