BEGIN:VCALENDAR
VERSION:2.0
PRODID:-//wp-events-plugin.com//7.2.2.1//EN
BEGIN:VEVENT
UID:269@jsjbf.org
DTSTART;TZID=America/New_York:20240712T161500
DTEND;TZID=America/New_York:20240712T180000
DTSTAMP:20240711T180822Z
URL:https://jsjbf.org/events/briggs-farm-blues-festival-2024/
SUMMARY:BRIGGS FARM BLUES FESTIVAL 2024
DESCRIPTION:ELIZA NEALS\n\nMAIN STAGE 4:25pm Will LIGHT UP THE FESTIVAL WIT
 H PURE BLUESROCK and TOP OF THE CHARTS MODERN BLUES as HEARD on SIRIUS XM 
 CH.75 BB KINGS BLUESVILLE!\n\n"Eliza Neals is a modern blues musician from
  Detroit\, Michigan\, who has revolutionized the genre with her soulful an
 d commanding voice. Her music strikes the ideal balance between classic bl
 ues and modern sounds\, and music lovers all around the world have applaud
 ed her for her distinctive sound. Neals has clearly had a huge impact on t
 he blues scene with to her dynamic range\, expressive tone\, and evocative
  language.\n\nIn the blues and modern blues music scenes\, Eliza Neals has
  worked with some of the most talented performers. Her performances with o
 ther musicians are evidence of her talent as a vocalist and her capacity t
 o bring out the best in them. Each partnership shows a different facet of 
 her artistic expression and demonstrates how versatile she is as a musicia
 n.\n\nNeals' love of the blues is evident in her music. She has an unmatch
 ed capacity to captivate listeners with her voice and lyrics. Her music ca
 ptures the spirit of the blues while also moving the genre ahead thanks to
  the raw and sophisticated sound. Her songs are an experience like no othe
 r because of her profound understanding of the blues and her talent for in
 fusing it with her personality. Eliza Neals is a must-hear for anyone sear
 ching for a modern blues musician."\n\nhttp://linktr.ee/elizaneals\n\n&nbs
 p\;
ATTACH;FMTTYPE=image/jpeg:https://jsjbf.org/wp-content/uploads/2024/07/bri
 ggs-farm-blues-festival.jpg
CATEGORIES:Band Event,Venue Event
END:VEVENT
BEGIN:VTIMEZONE
TZID:America/New_York
X-LIC-LOCATION:America/New_York
BEGIN:DAYLIGHT
DTSTART:20240310T030000
TZOFFSETFROM:-0500
TZOFFSETTO:-0400
TZNAME:EDT
END:DAYLIGHT
END:VTIMEZONE
END:VCALENDAR